BEGIN:VCALENDAR
VERSION:2.0
CREATED:20260421T165214Z
PRODID:-//Paysafe Ltd/Equisolve Calendar v1.0//EN
METHOD:PUBLISH
BEGIN:VEVENT
UID:52bf5cc48abce11d0b11fad6a7429fdb
DTSTAMP:20260424T122252Z
DTSTART:20260513T123000Z
DTEND:20260513T133000Z
SUMMARY:First Quarter 2026 Earnings Call
DESCRIPTION:First Quarter 2026 Earnings Call\nDate: May 13\, 2026 8:30 am EDT\nWebcast: https://event.choruscall.com/mediaframe/webcast.html?webcastid=vtoLbiAB
END:VEVENT
END:VCALENDAR
